BEGIN:VCALENDAR
VERSION:2.0
PRODID:-//Radio AKOU+ - ECPv6.15.20//NONSGML v1.0//EN
CALSCALE:GREGORIAN
METHOD:PUBLISH
X-WR-CALNAME:Radio AKOU+
X-ORIGINAL-URL:https://akousyn.de
X-WR-CALDESC:Events for Radio AKOU+
REFRESH-INTERVAL;VALUE=DURATION:PT1H
X-Robots-Tag:noindex
X-PUBLISHED-TTL:PT1H
BEGIN:VTIMEZONE
TZID:Europe/Berlin
BEGIN:DAYLIGHT
TZOFFSETFROM:+0100
TZOFFSETTO:+0200
TZNAME:CEST
DTSTART:20250330T010000
END:DAYLIGHT
BEGIN:STANDARD
TZOFFSETFROM:+0200
TZOFFSETTO:+0100
TZNAME:CET
DTSTART:20251026T010000
END:STANDARD
BEGIN:DAYLIGHT
TZOFFSETFROM:+0100
TZOFFSETTO:+0200
TZNAME:CEST
DTSTART:20260329T010000
END:DAYLIGHT
BEGIN:STANDARD
TZOFFSETFROM:+0200
TZOFFSETTO:+0100
TZNAME:CET
DTSTART:20261025T010000
END:STANDARD
BEGIN:DAYLIGHT
TZOFFSETFROM:+0100
TZOFFSETTO:+0200
TZNAME:CEST
DTSTART:20270328T010000
END:DAYLIGHT
BEGIN:STANDARD
TZOFFSETFROM:+0200
TZOFFSETTO:+0100
TZNAME:CET
DTSTART:20271031T010000
END:STANDARD
END:VTIMEZONE
BEGIN:VEVENT
DTSTART;TZID=Europe/Berlin:20260425T190000
DTEND;TZID=Europe/Berlin:20260425T220000
DTSTAMP:20260424T143916
CREATED:20260411T180024Z
LAST-MODIFIED:20260411T181834Z
UID:5505-1777143600-1777154400@akousyn.de
SUMMARY:Μια βραδιά γεμάτη Ελλάδα: Αφιέρωμα στον Γιώργο Χατζηνάσιο και τον Μανώλη Χιώτη στο Μόναχο
DESCRIPTION:Ο Philharmonia Musikverein München παρουσιάζει μια μοναδική μουσική βραδιά\, έναν «Ελληνικό Λογοτεχνικό/Μουσικό Εσπερινό» (Griechischer Liederabend)\, αφιερωμένο σε δύο κορυφαίες μορφές της ελληνικής μουσικής: τον Γιώργο Χατζηνάσιο και τον Μανώλη Χιώτη. \nΗ εκδήλωση υπόσχεται να ταξιδέψει το κοινό μέσα από τις διαχρονικές μελωδίες και τους ρυθμούς που σφράγισαν το ελληνικό πεντάγραμμο\, από την κινηματογραφική κομψότητα του Χατζηνάσιου μέχρι το δεξιοτεχνικό και επαναστατικό μπουζούκι του Χιώτη. \nΠληροφορίες Εκδήλωσης\n\n\nΗμερομηνία: Σάββατο\, 25 Απριλίου 2026 \n\n\nΏρα Έναρξης: 19:00 \n\n\nΤοποθεσία: Gasteig HP8\, Saal X \n\n\nΔιεύθυνση: Hans-Preißinger-Straße 8\, 81379 München \n\n\nΣυντελεστές\nΤην επιμέλεια και το καλλιτεχνικό πρόγραμμα αναλαμβάνουν οι σολίστ και οι μουσικοί του συλλόγου Philharmonia\, με τη συμμετοχή των: \n\n\nΚατερίνα Χαμουκαρίδου (Τραγούδι) \n\n\nΠαύλος Αμανατίδης (Τραγούδι) \n\n\nΜιχάλης Αμανατίδης (Μπουζούκι\, Τραγούδι & Διασκευή/Διεύθυνση) \n\n\nΜηνάς Κουτζαμπασόπουλος (Πιάνο) \n\n\nΛευτέρης Αρμυράς (Κιθάρα\, Τραγούδι) \n\n\nRatko Pavlovic (Ακορντεόν) \n\n\nJannis Theofilou (Κρουστά) \n\n\nGiuseppe Puzzo (Κοντραμπάσο) \n\n\nια την εκδήλωση «Griechischer Liederabend»\, η οποία είναι αφιερωμένη στον Γιώργο Χατζηνάσιο και τον Μανώλη Χιώτη\, μπορείτε να προμηθευτείτε τα εισιτήριά σας μέσω του επίσημου παρόχου München Ticket. \nΛεπτομέρειες Εισιτηρίων:\n\n\nΤιμές: * Κανονικό: 30\,00 € \n\n\nΜειωμένο: 21\,00 € \n\n\nΠαιδιά (κάτω των 15 ετών): 15\,00 € \n\n\n\n\nΑγορά: Μπορείτε να τα αγοράσετε online είτε τηλεφωνικά ή  απευθείας από την ιστοσελίδα του München Ticket \n\n\n\n\n\n\n\nΥπενθύμιση Εκδήλωσης: \n\n\nΠότε: Σάββατο\, 25 Απριλίου 2026\, στις 19:00. \n\n\nΠού: Gasteig HP8\, Saal X.
URL:https://akousyn.de/event/philharmonia-xatzinasios-xiotis/
LOCATION:Gasteig HP8\, Saal X\, Hans-Preißinger-Straße 8\, München\, Bayern\, 81379
ATTACH;FMTTYPE=image/jpeg:https://akousyn.de/wp-content/uploads/2026/04/phil.jpg
END:VEVENT
BEGIN:VEVENT
DTSTART;TZID=Europe/Berlin:20260428T183000
DTEND;TZID=Europe/Berlin:20260428T210000
DTSTAMP:20260424T143916
CREATED:20260411T183014Z
LAST-MODIFIED:20260411T190507Z
UID:5512-1777401000-1777410000@akousyn.de
SUMMARY:Έχει η οικογένεια μέλλον; Μια σημαντική εκδήλωση στο Μόναχο με τον Prof. Dr. mult. Βασίλειο Φθενάκη
DESCRIPTION:qΤο Λύκειο των Ελληνίδων Μονάχου και η Λέσχη Ελλήνων Επιστημόνων\, δύο από τους πλέον δραστήριους φορείς της ελληνικής ομογένειας στη Βαυαρία\, ενώνουν τις δυνάμεις τους για τη διοργάνωση μιας επίκαιρης και επιστημονικά τεκμηριωμένης εκδήλωσης. \nΤην Τρίτη\, 28 Απριλίου 2026\, στις 18:30\, το κοινό του Μονάχου θα έχει την ευκαιρία να παρακολουθήσει την ομιλία του διακεκριμένου Prof. Dr. mult. Βασίλειου Ε. Φθενάκη με θέμα: \n\n«Έχει η οικογένεια μέλλον; Προκλήσεις και προοπτικές για τις οικογένειες στον 21ο αιώνα» \n\nΟ Ομιλητής\nΟ καθηγητής Βασίλειος Φθενάκης αποτελεί μια εμβληματική προσωπικότητα στον χώρο της Οικογενειακής Παιδαγωγικής και της Ανθρωπολογίας. Με το πολυδιάστατο έργο του έχει επηρεάσει βαθύτατα την εκπαιδευτική πολιτική και τη δομή της προσχολικής αγωγής στη Γερμανία. Η παρουσία του εγγυάται μια εις βάθος ανάλυση των μεταβολών που υφίσταται ο θεσμός της οικογένειας κάτω από το βάρος των σύγχρονων κοινωνικών και οικονομικών προκλήσεων. \nΤο Περιεχόμενο\nΣε μια εποχή όπου οι παραδοσιακές δομές μετασχηματίζονται\, η εκδήλωση θα εστιάσει σε κρίσιμα ερωτήματα: \n\n\nΠώς προσαρμόζεται η οικογένεια στις απαιτήσεις του 21ου αιώνα; \n\n\nΠοιες είναι οι νέες μορφές συμβίωσης και οι προκλήσεις που αντιμετωπίζουν οι γονείς σήμερα; \n\n\nΠοιοι είναι οι παράγοντες που διασφαλίζουν τη βιωσιμότητα και την ευημερία των οικογενειακών δεσμών στο μέλλον; \n\n\nΠληροφορίες Συμμετοχής\nΗ εισήγηση θα πραγματοποιηθεί στη γερμανική γλώσσα\, δίνοντας την ευκαιρία και στο ευρύτερο γερμανόφωνο κοινό να συμμετάσχει στον διάλογο. \n\n\nΧώρος: Instituto Cervantes\, Alfons-Goppel-Straße 7\, 80539 München. \n\n\nΗμερομηνία & Ώρα: Τρίτη\, 28 Απριλίου 2026 | 18:30. \n\n\nΗ εκδήλωση αυτή αποτελεί μια μοναδική ευκαιρία για προβληματισμό και ανταλλαγή απόψεων πάνω σε ένα θέμα που αγγίζει τον πυρήνα της κοινωνικής μας ύπαρξης. \nΕπισημαίνεται ότι η εισήγηση του καθηγητή θα πραγματοποιηθεί στη γερμανική γλώσσα. Η επιλογή της γλώσσας αντικατοπτρίζει την επιθυμία των διοργανωτών να ανοίξουν τον διάλογο σε όλη την τοπική κοινωνία\, δεδομένου ότι ο κ. Φθενάκης αποτελεί σημείο αναφοράς για την παιδαγωγική επιστήμη στη Γερμανία.
URL:https://akousyn.de/event/exei-mellon-i-oikogeneia-wassilios-fthenakis/
LOCATION:Instituto Cervantes\, Alfons-Goppel-Straße 7\, München\, Bayern\, 80539\, Germany
ATTACH;FMTTYPE=image/jpeg:https://akousyn.de/wp-content/uploads/2026/04/familie_fthenakis.jpg
END:VEVENT
END:VCALENDAR